BEGIN:VCALENDAR
VERSION:2.0
PRODID:-//Milta Bodrum Marina - ECPv6.11.1//NONSGML v1.0//EN
CALSCALE:GREGORIAN
METHOD:PUBLISH
X-WR-CALNAME:Milta Bodrum Marina
X-ORIGINAL-URL:https://www.miltabodrummarina.com
X-WR-CALDESC:Milta Bodrum Marina için etkinlikler
REFRESH-INTERVAL;VALUE=DURATION:PT1H
X-Robots-Tag:noindex
X-PUBLISHED-TTL:PT1H
BEGIN:VTIMEZONE
TZID:Europe/Istanbul
BEGIN:STANDARD
TZOFFSETFROM:+0300
TZOFFSETTO:+0300
TZNAME:+03
DTSTART:20220101T000000
END:STANDARD
END:VTIMEZONE
BEGIN:VEVENT
DTSTART;VALUE=DATE:20220927
DTEND;VALUE=DATE:20221010
DTSTAMP:20260421T134448
CREATED:20220329T095940Z
LAST-MODIFIED:20220329T095940Z
UID:15215-1664236800-1665359999@www.miltabodrummarina.com
SUMMARY:NESİBE TÜLAY ERGUN
DESCRIPTION:
URL:https://www.miltabodrummarina.com/event/nesibe-tulay-ergun/
CATEGORIES:El Sanatları,Resim
END:VEVENT
BEGIN:VEVENT
DTSTART;VALUE=DATE:20220921
DTEND;VALUE=DATE:20220927
DTSTAMP:20260421T134448
CREATED:20220329T095716Z
LAST-MODIFIED:20220329T095716Z
UID:15213-1663718400-1664236799@www.miltabodrummarina.com
SUMMARY:KAYMAKAMLIK ZEKİ MÜREN HAFTASI
DESCRIPTION:
URL:https://www.miltabodrummarina.com/event/kaymakamlik-zeki-muren-haftasi/
CATEGORIES:Resim
END:VEVENT
BEGIN:VEVENT
DTSTART;VALUE=DATE:20220914
DTEND;VALUE=DATE:20220921
DTSTAMP:20260421T134448
CREATED:20220329T095603Z
LAST-MODIFIED:20220329T095603Z
UID:15211-1663113600-1663718399@www.miltabodrummarina.com
SUMMARY:TAYFUN ÖNEL
DESCRIPTION:
URL:https://www.miltabodrummarina.com/event/tayfun-onel/
CATEGORIES:Resim
END:VEVENT
BEGIN:VEVENT
DTSTART;VALUE=DATE:20220831
DTEND;VALUE=DATE:20220914
DTSTAMP:20260421T134448
CREATED:20220329T095513Z
LAST-MODIFIED:20220329T095513Z
UID:15209-1661904000-1663113599@www.miltabodrummarina.com
SUMMARY:NATA DRAGO
DESCRIPTION:
URL:https://www.miltabodrummarina.com/event/nata-drago/
CATEGORIES:Resim
END:VEVENT
BEGIN:VEVENT
DTSTART;VALUE=DATE:20220817
DTEND;VALUE=DATE:20220831
DTSTAMP:20260421T134448
CREATED:20220329T094837Z
LAST-MODIFIED:20220329T094837Z
UID:15207-1660694400-1661903999@www.miltabodrummarina.com
SUMMARY:AYŞEGÜL ÖNGEL
DESCRIPTION:
URL:https://www.miltabodrummarina.com/event/aysegul-ongel/
CATEGORIES:Resim
END:VEVENT
BEGIN:VEVENT
DTSTART;VALUE=DATE:20220803
DTEND;VALUE=DATE:20220817
DTSTAMP:20260421T134448
CREATED:20220329T094807Z
LAST-MODIFIED:20220329T094807Z
UID:15205-1659484800-1660694399@www.miltabodrummarina.com
SUMMARY:GÜLDEN MACİT - FİLİZ TAYLOR
DESCRIPTION:
URL:https://www.miltabodrummarina.com/event/gulden-macit-filiz-taylor/
CATEGORIES:Resim
END:VEVENT
BEGIN:VEVENT
DTSTART;VALUE=DATE:20220720
DTEND;VALUE=DATE:20220803
DTSTAMP:20260421T134448
CREATED:20220329T094647Z
LAST-MODIFIED:20220329T094738Z
UID:15203-1658275200-1659484799@www.miltabodrummarina.com
SUMMARY:ELİF NURŞAD
DESCRIPTION:
URL:https://www.miltabodrummarina.com/event/elif-nursad/
CATEGORIES:Resim
END:VEVENT
BEGIN:VEVENT
DTSTART;VALUE=DATE:20220706
DTEND;VALUE=DATE:20220713
DTSTAMP:20260421T134448
CREATED:20220329T094611Z
LAST-MODIFIED:20220329T094611Z
UID:15201-1657065600-1657670399@www.miltabodrummarina.com
SUMMARY:AYNUR TAŞTAN
DESCRIPTION:
URL:https://www.miltabodrummarina.com/event/aynur-tastan/
CATEGORIES:Resim
END:VEVENT
BEGIN:VEVENT
DTSTART;VALUE=DATE:20220622
DTEND;VALUE=DATE:20220706
DTSTAMP:20260421T134448
CREATED:20220329T094533Z
LAST-MODIFIED:20220329T094533Z
UID:15199-1655856000-1657065599@www.miltabodrummarina.com
SUMMARY:TÜLAY BAYRAKTAR
DESCRIPTION:
URL:https://www.miltabodrummarina.com/event/tulay-bayraktar/
CATEGORIES:Resim
END:VEVENT
BEGIN:VEVENT
DTSTART;VALUE=DATE:20220608
DTEND;VALUE=DATE:20220622
DTSTAMP:20260421T134448
CREATED:20220329T094457Z
LAST-MODIFIED:20220329T094457Z
UID:15197-1654646400-1655855999@www.miltabodrummarina.com
SUMMARY:NURGÜL ULU
DESCRIPTION:
URL:https://www.miltabodrummarina.com/event/nurgul-ulu/
CATEGORIES:Resim
END:VEVENT
BEGIN:VEVENT
DTSTART;VALUE=DATE:20220525
DTEND;VALUE=DATE:20220608
DTSTAMP:20260421T134448
CREATED:20220329T094427Z
LAST-MODIFIED:20220329T094427Z
UID:15195-1653436800-1654646399@www.miltabodrummarina.com
SUMMARY:PINAR ÇİÇEKLİ
DESCRIPTION:
URL:https://www.miltabodrummarina.com/event/pinar-cicekli/
CATEGORIES:Resim
END:VEVENT
BEGIN:VEVENT
DTSTART;VALUE=DATE:20220511
DTEND;VALUE=DATE:20220525
DTSTAMP:20260421T134448
CREATED:20220329T094225Z
LAST-MODIFIED:20220329T094225Z
UID:15193-1652227200-1653436799@www.miltabodrummarina.com
SUMMARY:NERİMAN KARŞANBAŞ
DESCRIPTION:
URL:https://www.miltabodrummarina.com/event/neriman-karsanbas/
CATEGORIES:Resim,Seramik
END:VEVENT
BEGIN:VEVENT
DTSTART;VALUE=DATE:20220427
DTEND;VALUE=DATE:20220511
DTSTAMP:20260421T134448
CREATED:20220329T093855Z
LAST-MODIFIED:20220329T093911Z
UID:15191-1651017600-1652227199@www.miltabodrummarina.com
SUMMARY:NURHAYAT ARIKAN - TAYFUN YAMAN
DESCRIPTION:
URL:https://www.miltabodrummarina.com/event/nurhayat-arikan-tayfun-yaman/
CATEGORIES:Seramik
END:VEVENT
END:VCALENDAR